{
 "currentVersion": 11.2,
 "serviceDescription": "SDE_HP2Marecchia",
 "name": "SDE_HP2Marecchia",
 "description": "",
 "extent": {
  "xmin": 269325.27134776895,
  "ymin": 4842613.723269755,
  "xmax": 310944.77134776895,
  "ymax": 4891078.723269755,
  "spatialReference": {
   "wkid": 7792,
   "latestWkid": 7792
  }
 },
 "initialExtent": {
  "xmin": 269325.27134776895,
  "ymin": 4842613.723269755,
  "xmax": 310944.77134776895,
  "ymax": 4891078.723269755,
  "spatialReference": {
   "wkid": 7792,
   "latestWkid": 7792
  }
 },
 "fullExtent": {
  "xmin": 269325.27134776895,
  "ymin": 4842613.723269755,
  "xmax": 310944.77134776895,
  "ymax": 4891078.723269755,
  "spatialReference": {
   "wkid": 7792,
   "latestWkid": 7792
  }
 },
 "sortableFields": "",
 "bandCount": 1,
 "pixelType": "F32",
 "minValues": [
  9.9945068359375E-4
 ],
 "maxValues": [
  8.869827270507812
 ],
 "meanValues": [
  1.5089158678351182
 ],
 "stdvValues": [
  1.3667401031231496
 ],
 "hasMultidimensions": false,
 "pixelSizeX": 0.5,
 "pixelSizeY": 0.5,
 "meanPixelSize": 0.5,
 "datasetFormat": "SDR",
 "uncompressedSize": 32273425080,
 "blockWidth": 128,
 "blockHeight": 128,
 "compressionType": "LZ77",
 "bandNames": [
  "Band_1"
 ],
 "allowCopy": true,
 "allowAnalysis": true,
 "itemAccess": false,
 "inspectionCapabilities": "",
 "minPixelSize": 0,
 "maxPixelSize": 0,
 "copyrightText": "",
 "serviceDataType": "esriImageServiceDataTypeGeneric",
 "serviceSourceType": "esriImageServiceSourceTypeDataset",
 "objectIdField": "",
 "fields": [],
 "capabilities": "Image,Metadata,Mensuration",
 "defaultMosaicMethod": "Center",
 "allowedMosaicMethods": "",
 "sortField": "",
 "sortValue": null,
 "sortAscending": true,
 "mosaicOperator": "First",
 "defaultCompressionQuality": 75,
 "defaultResamplingMethod": "Bilinear",
 "maxImageHeight": 4100,
 "maxImageWidth": 15000,
 "allowRasterFunction": true,
 "rasterFunctionInfos": [
  {
   "name": "None",
   "description": "",
   "help": ""
  }
 ],
 "rasterTypeInfos": [
  {
   "name": "Raster Dataset",
   "description": "Supports all ArcGIS Raster Datasets",
   "help": ""
  }
 ],
 "mensurationCapabilities": "Basic",
 "hasHistograms": true,
 "hasColormap": false,
 "hasRasterAttributeTable": false,
 "minScale": 0,
 "maxScale": 0,
 "exportTilesAllowed": false,
 "supportsStatistics": false,
 "supportsAdvancedQueries": false,
 "editFieldsInfo": null,
 "ownershipBasedAccessControlForRasters": null,
 "allowComputeTiePoints": false,
 "useStandardizedQueries": true,
 "advancedQueryCapabilities": {
  "useStandardizedQueries": true,
  "supportsStatistics": false,
  "supportsOrderBy": false,
  "supportsDistinct": false,
  "supportsPagination": false
 },
 "spatialReference": {
  "wkid": 7792,
  "latestWkid": 7792
 }
}
