{
 "currentVersion": 11.2,
 "serviceDescription": "SDE_marecchia_velocita_l",
 "name": "SDE_marecchia_velocita_l",
 "description": "",
 "extent": {
  "xmin": 758827.5,
  "ymin": 4854990,
  "xmax": 787412.5,
  "ymax": 4887716,
  "spatialReference": {
   "wkid": 7791,
   "latestWkid": 7791
  }
 },
 "initialExtent": {
  "xmin": 758827.5,
  "ymin": 4854990,
  "xmax": 787412.5,
  "ymax": 4887716,
  "spatialReference": {
   "wkid": 7791,
   "latestWkid": 7791
  }
 },
 "fullExtent": {
  "xmin": 758827.5,
  "ymin": 4854990,
  "xmax": 787412.5,
  "ymax": 4887716,
  "spatialReference": {
   "wkid": 7791,
   "latestWkid": 7791
  }
 },
 "sortableFields": "",
 "bandCount": 1,
 "pixelType": "F32",
 "minValues": [
  9.785906513570808E-6
 ],
 "maxValues": [
  9.896397590637207
 ],
 "meanValues": [
  1.4273837837418117
 ],
 "stdvValues": [
  1.3898093762761847
 ],
 "hasMultidimensions": false,
 "pixelSizeX": 0.5,
 "pixelSizeY": 0.5,
 "meanPixelSize": 0.5,
 "datasetFormat": "SDR",
 "uncompressedSize": 14967563360,
 "blockWidth": 128,
 "blockHeight": 128,
 "compressionType": "LZ77",
 "bandNames": [
  "Band_1"
 ],
 "allowCopy": true,
 "allowAnalysis": true,
 "itemAccess": false,
 "inspectionCapabilities": "",
 "minPixelSize": 0,
 "maxPixelSize": 0,
 "copyrightText": "",
 "serviceDataType": "esriImageServiceDataTypeGeneric",
 "serviceSourceType": "esriImageServiceSourceTypeDataset",
 "objectIdField": "",
 "fields": [],
 "capabilities": "Image,Metadata,Mensuration",
 "defaultMosaicMethod": "Center",
 "allowedMosaicMethods": "",
 "sortField": "",
 "sortValue": null,
 "sortAscending": true,
 "mosaicOperator": "First",
 "defaultCompressionQuality": 75,
 "defaultResamplingMethod": "Bilinear",
 "maxImageHeight": 4100,
 "maxImageWidth": 15000,
 "allowRasterFunction": true,
 "rasterFunctionInfos": [
  {
   "name": "None",
   "description": "",
   "help": ""
  }
 ],
 "rasterTypeInfos": [
  {
   "name": "Raster Dataset",
   "description": "Supports all ArcGIS Raster Datasets",
   "help": ""
  }
 ],
 "mensurationCapabilities": "Basic",
 "hasHistograms": true,
 "hasColormap": false,
 "hasRasterAttributeTable": false,
 "minScale": 0,
 "maxScale": 0,
 "exportTilesAllowed": false,
 "supportsStatistics": false,
 "supportsAdvancedQueries": false,
 "editFieldsInfo": null,
 "ownershipBasedAccessControlForRasters": null,
 "allowComputeTiePoints": false,
 "useStandardizedQueries": true,
 "advancedQueryCapabilities": {
  "useStandardizedQueries": true,
  "supportsStatistics": false,
  "supportsOrderBy": false,
  "supportsDistinct": false,
  "supportsPagination": false
 },
 "spatialReference": {
  "wkid": 7791,
  "latestWkid": 7791
 }
}
