View In:
ArcGIS JavaScript
ArcGIS Online Map Viewer
ArcGIS Earth
Service Description: SDE_HP1Marecchia
Name: SDE_HP1Marecchia
Description:
Single Fused Map Cache: false
Extent:
XMin: 269325.27134776895
YMin: 4842613.723269755
XMax: 310944.77134776895
YMax: 4891078.723269755
Spatial Reference: 7792
(7792)
Initial Extent:
XMin: 269325.27134776895
YMin: 4842613.723269755
XMax: 310944.77134776895
YMax: 4891078.723269755
Spatial Reference: 7792
(7792)
Full Extent:
XMin: 269325.27134776895
YMin: 4842613.723269755
XMax: 310944.77134776895
YMax: 4891078.723269755
Spatial Reference: 7792
(7792)
Pixel Size X: 0.5
Pixel Size Y: 0.5
Band Count: 1
Pixel Type: F32
RasterFunction Infos: {"rasterFunctionInfos": [{
"name": "None",
"description": "",
"help": ""
}]}
Mensuration Capabilities: Basic
Inspection Capabilities:
Has Histograms: true
Has Colormap: false
Has Multi Dimensions : false
Rendering Rule:
Min Scale: 0
Max Scale: 0
Copyright Text:
Service Data Type: esriImageServiceDataTypeGeneric
Min Values: 9.9945068359375E-4
Max Values: 9.724853515625
Mean Values: 1.5739188790226941
Standard Deviation Values: 1.4433591911513486
Object ID Field:
Fields:
None
Default Mosaic Method: Center
Allowed Mosaic Methods:
SortField:
SortValue: null
Mosaic Operator: First
Default Compression Quality: 75
Default Resampling Method: Bilinear
Max Record Count: null
Max Image Height: 4100
Max Image Width: 15000
Max Download Image Count: null
Max Mosaic Image Count: null
Allow Raster Function: true
Allow Copy: true
Allow Analysis: true
Allow Compute TiePoints: false
Supports Statistics: false
Supports Advanced Queries: false
Use StandardizedQueries: true
Raster Type Infos:
Name: Raster Dataset
Description: Supports all ArcGIS Raster Datasets
Help:
Has Raster Attribute Table: false
Edit Fields Info: null
Ownership Based AccessControl For Rasters: null
Child Resources:
Info
Histograms
Statistics
Key Properties
Legend
Raster Function Infos
Supported Operations:
Export Image
Identify
Measure
Compute Histograms
Compute Statistics Histograms
Get Samples
Compute Class Statistics
Query Boundary
Compute Pixel Location
Compute Angles
Validate
Project